Workbook
Name Check1: 'Questionnaire N1'!$B$23

Sheet Questionnaire N1
C1: Personality assessment
C3: Instructions
C5: There are no right and wrong answers to these questions.
C6: Your answers will give an indication of your preferred personality style.
C8: Indicate your answer by writing a 1 in the box at the right end of every question.
C9: Please leave the other box clear.
C11: There are 76 questions in part 1 and 24 questions in part 2. Make sure you answer part
C12: 1 and 2 of the questionnaire. Please answer the first 4 biographical questions too.
C14: Send a copy of your completed questionnaire to your Coach
B16: Your name?
B17: Todays' date?
B18: You work for?
B19: Your job name?
C21: Part 1
B23: 1 | C23: Do you prefer a
C24: small intimate circle of friends, or
C25: a wide circle of friends?
B27: 2 | C27: Are you more often moved by people's ability to
C28: find practical solutions to their problems, or
C29: overcome challenges?
B31: 3 | C31: When it comes to people, do you think it is more important to
C32: have empathy with people that have problems, or
C33: analyse what caused their problems?
B35: 4 | C35: Would you say you are
C36: never late for your appointments, or
C37: sometimes late for your appointments?
B39: 5 | C39: Do you act
C40: immediately, or
C41: eventually?
B43: 6 | C43: Do you experience that you are
C44: sometimes 'out of sync' with what others say is going on, or
C45: discern other people's feelings quite easily?
B47: 7 | C47: What is a greater compliment
C48: to have rational intelligence, or
C49: to have emotional intelligence?
B51: 8 | C51: Are you in general
C52: more open to experience what the moment holds, or
C53: more structured and focussed?
B55: 9 | C55: Do you prefer to work with
C56: concepts, or
C57: people?
B59: 10 | C59: Does attention to detail
C60: bore you, or
C61: excite you?
B63: 11 | C63: Do you find yourself
C64: thinking more about people and their things, or
C65: would you rather engage in helping people?
B67: 12 | C67: Are you more
C68: responsible, or
C69: forgiving?
B71: 13 | C71: Do you enjoy spending your holidays with
C72: a lot of friends, or
C73: alone with your closest friends?
B75: 14 | C75: Are you better with
C76: abstract, theoretical things, or
C77: practical, concrete things?
B79: 15 | C79: Is talking about your feelings to someone you trust
C80: challenging, or
C81: easy?
B83: 16 | C83: Do you believe the best decision is
C84: the one that can be changed, or
C85: the one that stands the 'test of time'?
B87: 17 | C87: Would you rather
C88: be alone doing something you really enjoy, or
C89: be amongst all your best friends?
B91: 18 | C91: Do you enjoy working with
C92: your hands, or
C93: your head?
B95: 19 | C95: Are you more interested in people's way of
C96: thinking, or
C97: feeling?
B99: 20 | C99: Are you more comfortable to
C100: finish off before you move on, or
C101: juggle many things at the same time?
B103: 21 | C103: Do you enjoy talking and interacting with
C104: a lot of people, or
C105: a few people?
B107: 22 | C107: Do you think life is
C108: straight forward, or
C109: rather complicated?
B111: 23 | C111: Is it more important for you to be
C112: kind or,
C113: fair?
B115: 24 | C115: Do you like
C116: to try new things, or
C117: the established way of doing things?
B119: 25 | C119: Do you prefer to
C120: listen, or
C121: talk?
B123: 26 | C123: What do you think more about -
C124: how you could practically solve a concrete problem, or
C125: how you could improve something to work even better?
B127: 27 | C127: Do you take constructive criticism
C128: "on the chin" and work with, or
C129: does it have an upsetting effect on you?
B131: 28 | C131: Are you frustrated
C132: when things don't work out as you thought it should, or
C133: do you simply adapt when that happens?
B135: 29 | C135: Are you more often
C136: energised by people, or
...

Sheet Results
B1: E | C1: I | E1: S | F1: N | H1: T | I1: F | K1: J | L1: P
A3: 1 | B3: =+'Questionnaire N1'!D25 -> 0 | C3: =+'Questionnaire N1'!D24 -> 0 | D3: 2 | E3: =+'Questionnaire N1'!D28 -> 0 | F3: =+'Questionnaire N1'!D29 -> 0 | G3: 3 | H3: =+'Questionnaire N1'!D33 -> 0 | I3: =+'Questionnaire N1'!D32 -> 0 | J3: 4 | K3: =+'Questionnaire N1'!D36 -> 0 | L3: =+'Questionnaire N1'!D37 -> 0
A4: 5 | B4: =+'Questionnaire N1'!D40 -> 0 | C4: =+'Questionnaire N1'!D41 -> 0 | D4: 6 | E4: =+'Questionnaire N1'!D44 -> 0 | F4: =+'Questionnaire N1'!D45 -> 0 | G4: 7 | H4: =+'Questionnaire N1'!D48 -> 0 | I4: =+'Questionnaire N1'!D49 -> 0 | J4: 8 | K4: =+'Questionnaire N1'!D53 -> 0 | L4: =+'Questionnaire N1'!D52 -> 0
A5: 9 | B5: =+'Questionnaire N1'!D57 -> 0 | C5: =+'Questionnaire N1'!D56 -> 0 | D5: 10 | E5: =+'Questionnaire N1'!D61 -> 0 | F5: =+'Questionnaire N1'!D60 -> 0 | G5: 11 | H5: =+'Questionnaire N1'!D64 -> 0 | I5: =+'Questionnaire N1'!D65 -> 0 | J5: 12 | K5: =+'Questionnaire N1'!D68 -> 0 | L5: =+'Questionnaire N1'!D69 -> 0
A6: 13 | B6: =+'Questionnaire N1'!D72 -> 0 | C6: =+'Questionnaire N1'!D73 -> 0 | D6: 14 | E6: =+'Questionnaire N1'!D77 -> 0 | F6: =+'Questionnaire N1'!D76 -> 0 | G6: 15 | H6: =+'Questionnaire N1'!D80 -> 0 | I6: =+'Questionnaire N1'!D81 -> 0 | J6: 16 | K6: =+'Questionnaire N1'!D85 -> 0 | L6: =+'Questionnaire N1'!D84 -> 0
A7: 17 | B7: =+'Questionnaire N1'!D89 -> 0 | C7: =+'Questionnaire N1'!D88 -> 0 | D7: 18 | E7: =+'Questionnaire N1'!D92 -> 0 | F7: =+'Questionnaire N1'!D93 -> 0 | G7: 19 | H7: =+'Questionnaire N1'!D96 -> 0 | I7: =+'Questionnaire N1'!D97 -> 0 | J7: 20 | K7: =+'Questionnaire N1'!D100 -> 0 | L7: =+'Questionnaire N1'!D101 -> 0
A8: 21 | B8: =+'Questionnaire N1'!D104 -> 0 | C8: =+'Questionnaire N1'!D105 -> 0 | D8: 22 | E8: =+'Questionnaire N1'!D108 -> 0 | F8: =+'Questionnaire N1'!D109 -> 0 | G8: 23 | H8: =+'Questionnaire N1'!D113 -> 0 | I8: =+'Questionnaire N1'!D112 -> 0 | J8: 24 | K8: =+'Questionnaire N1'!D117 -> 0 | L8: =+'Questionnaire N1'!D116 -> 0
A9: 25 | B9: =+'Questionnaire N1'!D121 -> 0 | C9: =+'Questionnaire N1'!D120 -> 0 | D9: 26 | E9: =+'Questionnaire N1'!D124 -> 0 | F9: =+'Questionnaire N1'!D125 -> 0 | G9: 27 | H9: =+'Questionnaire N1'!D128 -> 0 | I9: =+'Questionnaire N1'!D129 -> 0 | J9: 28 | K9: =+'Questionnaire N1'!D132 -> 0 | L9: =+'Questionnaire N1'!D133 -> 0
A10: 29 | B10: =+'Questionnaire N1'!D136 -> 0 | C10: =+'Questionnaire N1'!D137 -> 0 | D10: 30 | E10: =+'Questionnaire N1'!D141 -> 0 | F10: =+'Questionnaire N1'!D140 -> 0 | G10: 31 | H10: =+'Questionnaire N1'!D145 -> 0 | I10: =+'Questionnaire N1'!D144 -> 0 | J10: 32 | K10: =+'Questionnaire N1'!D149 -> 0 | L10: =+'Questionnaire N1'!D148 -> 0
A11: 33 | B11: =+'Questionnaire N1'!D153 -> 0 | C11: =+'Questionnaire N1'!D152 -> 0 | D11: 34 | E11: =+'Questionnaire N1'!D156 -> 0 | F11: =+'Questionnaire N1'!D157 -> 0 | G11: 35 | H11: =+'Questionnaire N1'!D160 -> 0 | I11: =+'Questionnaire N1'!D161 -> 0 | J11: 36 | K11: =+'Questionnaire N1'!D164 -> 0 | L11: =+'Questionnaire N1'!D165 -> 0
A12: 37 | B12: =+'Questionnaire N1'!D168 -> 0 | C12: =+'Questionnaire N1'!D169 -> 0 | D12: 38 | E12: =+'Questionnaire N1'!D173 -> 0 | F12: =+'Questionnaire N1'!D172 -> 0 | G12: 39 | H12: =+'Questionnaire N1'!D177 -> 0 | I12: =+'Questionnaire N1'!D176 -> 0 | J12: 40 | K12: =+'Questionnaire N1'!D181 -> 0 | L12: =+'Questionnaire N1'!D180 -> 0
A13: 41 | B13: =+'Questionnaire N1'!D185 -> 0 | C13: =+'Questionnaire N1'!D184 -> 0 | D13: 42 | E13: =+'Questionnaire N1'!D188 -> 0 | F13: =+'Questionnaire N1'!D189 -> 0 | G13: 43 | H13: =+'Questionnaire N1'!D192 -> 0 | I13: =+'Questionnaire N1'!D193 -> 0 | J13: 44 | K13: =+'Questionnaire N1'!D196 -> 0 | L13: =+'Questionnaire N1'!D197 -> 0
A14: 45 | B14: =+'Questionnaire N1'!D200 -> 0 | C14: =+'Questionnaire N1'!D201 -> 0 | D14: 46 | E14: =+'Questionnaire N1'!D204 -> 0 | F14: =+'Questionnaire N1'!D205 -> 0 | G14: 47 | H14: =+'Questionnaire N1'!D209 -> 0 | I14: =+'Questionnaire N1'!D208 -> 0 | J14: 48 | K14: =+'Questionnaire N1'!D213 -> 0 | L14: =+'Questionnaire N1'!D212 -> 0
A15: 49 | B15: =+'Questionnaire N1'!D217 -> 0 | C15: =+'Questionnaire N1'!D216 -> 0 | D15: 50 | E15: =+'Questionnaire N1'!D221 -> 0 | F15: =+'Questionnaire N1'!D220 -> 0 | G15: 51 | H15: =+'Questionnaire N1'!D224 -> 0 | I15: =+'Questionnaire N1'!D225 -> 0 | J15: 52 | K15: =+'Questionnaire N1'!D228 -> 0 | L15: =+'Questionnaire N1'!D229 -> 0
A16: 53 | B16: =+'Questionnaire N1'!D232 -> 0 | C16: =+'Questionnaire N1'!D233 -> 0 | D16: 54 | E16: =+'Questionnaire N1'!D236 -> 0 | F16: =+'Questionnaire N1'!D237 -> 0 | G16: 55 | H16: =+'Questionnaire N1'!D241 -> 0 | I16: =+'Questionnaire N1'!D240 -> 0 | J16: 56 | K16: =+'Questionnaire N1'!D245 -> 0 | L16: =+'Questionnaire N1'!D244 -> 0
A17: 57 | B17: =+'Questionnaire N1'!D249 -> 0 | C17: =+'Questionnaire N1'!D248 -> 0 | D17: 58 | E17: =+'Questionnaire N1'!D253 -> 0 | F17: =+'Questionnaire N1'!D252 -> 0 | G17: 59 | H17: =+'Questionnaire N1'!D256 -> 0 | I17: =+'Questionnaire N1'!D257 -> 0 | J17: 60 | K17: =+'Questionnaire N1'!D260 -> 0 | L17: =+'Questionnaire N1'!D261 -> 0
A18: 61 | B18: =+'Questionnaire N1'!D264 -> 0 | C18: =+'Questionnaire N1'!D265 -> 0 | D18: 62 | E18: =+'Questionnaire N1'!D268 -> 0 | F18: =+'Questionnaire N1'!D269 -> 0 | G18: 63 | H18: =+'Questionnaire N1'!D273 -> 0 | I18: =+'Questionnaire N1'!D272 -> 0 | J18: 64 | K18: =+'Questionnaire N1'!D277 -> 0 | L18: =+'Questionnaire N1'!D276 -> 0
A19: 65 | B19: =+'Questionnaire N1'!D281 -> 0 | C19: =+'Questionnaire N1'!D280 -> 0 | D19: 66 | E19: =+'Questionnaire N1'!D285 -> 0 | F19: =+'Questionnaire N1'!D284 -> 0 | G19: 67 | H19: =+'Questionnaire N1'!D288 -> 0 | I19: =+'Questionnaire N1'!D289 -> 0 | J19: 68 | K19: =+'Questionnaire N1'!D292 -> 0 | L19: =+'Questionnaire N1'!D293 -> 0
A20: 69 | B20: =+'Questionnaire N1'!D296 -> 0 | C20: =+'Questionnaire N1'!D297 -> 0 | D20: 70 | E20: =+'Questionnaire N1'!D300 -> 0 | F20: =+'Questionnaire N1'!D301 -> 0 | G20: 71 | H20: =+'Questionnaire N1'!D305 -> 0 | I20: =+'Questionnaire N1'!D304 -> 0 | J20: 72 | K20: =+'Questionnaire N1'!D309 -> 0 | L20: =+'Questionnaire N1'!D308 -> 0
A21: 73 | B21: =+'Questionnaire N1'!D313 -> 0 | C21: =+'Questionnaire N1'!D312 -> 0 | D21: 74 | E21: =+'Questionnaire N1'!D317 -> 0 | F21: =+'Questionnaire N1'!D316 -> 0 | G21: 75 | H21: =+'Questionnaire N1'!D320 -> 0 | I21: =+'Questionnaire N1'!D321 -> 0 | J21: 76 | K21: =+'Questionnaire N1'!D324 -> 0 | L21: =+'Questionnaire N1'!D325 -> 0
B23: =SUM(B3:B22) -> 0 | C23: =SUM(C3:C22) -> 0 | E23: =SUM(E3:E22) -> 0 | F23: =SUM(F3:F22) -> 0 | H23: =SUM(H3:H22) -> 0 | I23: =SUM(I3:I22) -> 0 | K23: =SUM(K3:K22) -> 0 | L23: =SUM(L3:L22) -> 0
B25: E | C25: I | E25: S | F25: N | H25: T | I25: F | K25: J | L25: P
A27: 1 | B27: =+'Questionnaire N1'!D333 -> 0 | C27: =+'Questionnaire N1'!D334 -> 0 | D27: 2 | E27: =+'Questionnaire N1'!D336 -> 0 | F27: =+'Questionnaire N1'!D337 -> 0 | G27: 3 | H27: =+'Questionnaire N1'!D339 -> 0 | I27: =+'Questionnaire N1'!D340 -> 0 | J27: 4 | K27: =+'Questionnaire N1'!D342 -> 0 | L27: =+'Questionnaire N1'!D343 -> 0
A28: 5 | B28: =+'Questionnaire N1'!D346 -> 0 | C28: =+'Questionnaire N1'!D345 -> 0 | D28: 6 | E28: =+'Questionnaire N1'!D349 -> 0 | F28: =+'Questionnaire N1'!D348 -> 0 | G28: 7 | H28: =+'Questionnaire N1'!D352 -> 0 | I28: =+'Questionnaire N1'!D351 -> 0 | J28: 8 | K28: =+'Questionnaire N1'!D355 -> 0 | L28: =+'Questionnaire N1'!D354 -> 0
A29: 9 | B29: =+'Questionnaire N1'!D357 -> 0 | C29: =+'Questionnaire N1'!D358 -> 0 | D29: 10 | E29: =+'Questionnaire N1'!D360 -> 0 | F29: =+'Questionnaire N1'!D361 -> 0 | G29: 11 | H29: =+'Questionnaire N1'!D363 -> 0 | I29: =+'Questionnaire N1'!D364 -> 0 | J29: 12 | K29: =+'Questionnaire N1'!D366 -> 0 | L29: =+'Questionnaire N1'!D367 -> 0
A30: 13 | B30: =+'Questionnaire N1'!D370 -> 0 | C30: =+'Questionnaire N1'!D369 -> 0 | D30: 14 | E30: =+'Questionnaire N1'!D373 -> 0 | F30: =+'Questionnaire N1'!D372 -> 0 | G30: 15 | H30: =+'Questionnaire N1'!D376 -> 0 | I30: =+'Questionnaire N1'!D375 -> 0 | J30: 16 | K30: =+'Questionnaire N1'!D379 -> 0 | L30: =+'Questionnaire N1'!D378 -> 0
A31: 17 | B31: =+'Questionnaire N1'!D382 -> 0 | C31: =+'Questionnaire N1'!D381 -> 0 | D31: 18 | E31: =+'Questionnaire N1'!D384 -> 0 | F31: =+'Questionnaire N1'!D385 -> 0 | G31: 19 | H31: =+'Questionnaire N1'!D387 -> 0 | I31: =+'Questionnaire N1'!D388 -> 0 | J31: 20 | K31: =+'Questionnaire N1'!D390 -> 0 | L31: =+'Questionnaire N1'!D391 -> 0
A32: 21 | B32: =+'Questionnaire N1'!D393 -> 0 | C32: =+'Questionnaire N1'!D394 -> 0 | D32: 22 | E32: =+'Questionnaire N1'!D397 -> 0 | F32: =+'Questionnaire N1'!D396 -> 0 | G32: 23 | H32: =+'Questionnaire N1'!D400 -> 0 | I32: =+'Questionnaire N1'!D399 -> 0 | J32: 24 | K32: =+'Questionnaire N1'!D403 -> 0 | L32: =+'Questionnaire N1'!D402 -> 0
B34: =SUM(B27:B33) -> 0 | C34: =SUM(C27:C33) -> 0 | E34: =SUM(E27:E33) -> 0 | F34: =SUM(F27:F33) -> 0 | H34: =SUM(H27:H33) -> 0 | I34: =SUM(I27:I33) -> 0 | K34: =SUM(K27:K33) -> 0 | L34: =SUM(L27:L33) -> 0
B36: =+B34+B23 -> 0 | C36: =+C34+C23 -> 0 | E36: =+E34+E23 -> 0 | F36: =+F34+F23 -> 0 | H36: =+H34+H23 -> 0 | I36: =+I34+I23 -> 0 | K36: =+K34+K23 -> 0 | L36: =+L34+L23 -> 0

Sheet Graphs
